BEGIN:VCALENDAR
VERSION:2.0
PRODID:-// - ECPv6.15.10//NONSGML v1.0//EN
CALSCALE:GREGORIAN
METHOD:PUBLISH
X-ORIGINAL-URL:https://www.wnstr.org
X-WR-CALDESC:Events for 
REFRESH-INTERVAL;VALUE=DURATION:PT1H
X-Robots-Tag:noindex
X-PUBLISHED-TTL:PT1H
BEGIN:VTIMEZONE
TZID:America/New_York
BEGIN:DAYLIGHT
TZOFFSETFROM:-0500
TZOFFSETTO:-0400
TZNAME:EDT
DTSTART:20230312T070000
END:DAYLIGHT
BEGIN:STANDARD
TZOFFSETFROM:-0400
TZOFFSETTO:-0500
TZNAME:EST
DTSTART:20231105T060000
END:STANDARD
BEGIN:DAYLIGHT
TZOFFSETFROM:-0500
TZOFFSETTO:-0400
TZNAME:EDT
DTSTART:20240310T070000
END:DAYLIGHT
BEGIN:STANDARD
TZOFFSETFROM:-0400
TZOFFSETTO:-0500
TZNAME:EST
DTSTART:20241103T060000
END:STANDARD
BEGIN:DAYLIGHT
TZOFFSETFROM:-0500
TZOFFSETTO:-0400
TZNAME:EDT
DTSTART:20250309T070000
END:DAYLIGHT
BEGIN:STANDARD
TZOFFSETFROM:-0400
TZOFFSETTO:-0500
TZNAME:EST
DTSTART:20251102T060000
END:STANDARD
END:VTIMEZONE
BEGIN:VEVENT
DTSTART;TZID=America/New_York:20240903T103000
DTEND;TZID=America/New_York:20240903T113000
DTSTAMP:20260423T114025
CREATED:20240801T204441Z
LAST-MODIFIED:20240801T204922Z
UID:1496-1725359400-1725363000@www.wnstr.org
SUMMARY:Kindergarten Meet the Teachers
DESCRIPTION:Meet the Teachers for our Kindergarten class \nPlease join us to meet your teachers and explore your classroom. We are ready to blast into the new school year of fun and learning in Kindergarten! We cannot wait to meet you!
URL:https://www.wnstr.org/event/1496/
END:VEVENT
BEGIN:VEVENT
DTSTART;TZID=America/New_York:20240903T100000
DTEND;TZID=America/New_York:20240903T110000
DTSTAMP:20260423T114025
CREATED:20240801T204041Z
LAST-MODIFIED:20240801T204845Z
UID:1493-1725357600-1725361200@www.wnstr.org
SUMMARY:Meet the Teachers
DESCRIPTION:Meet the Teachers for preschool classes – 10:00am-11:00am.\nJoin us to visit your classroom and meet your teachers.  This is an open house event so families may visit any time during this hour.  We look forward to welcoming all new WNS friends and reconnecting with our returning friends.
URL:https://www.wnstr.org/event/1493/
END:VEVENT
END:VCALENDAR